BEGIN:VCALENDAR
VERSION:2.0
PRODID:-//Community Connections to Prosperity - ECPv6.15.17.1//NONSGML v1.0//EN
CALSCALE:GREGORIAN
METHOD:PUBLISH
X-ORIGINAL-URL:https://ccpbarroncounty.com
X-WR-CALDESC:Events for Community Connections to Prosperity
REFRESH-INTERVAL;VALUE=DURATION:PT1H
X-Robots-Tag:noindex
X-PUBLISHED-TTL:PT1H
BEGIN:VTIMEZONE
TZID:America/Chicago
BEGIN:DAYLIGHT
TZOFFSETFROM:-0600
TZOFFSETTO:-0500
TZNAME:CDT
DTSTART:20250309T080000
END:DAYLIGHT
BEGIN:STANDARD
TZOFFSETFROM:-0500
TZOFFSETTO:-0600
TZNAME:CST
DTSTART:20251102T070000
END:STANDARD
BEGIN:DAYLIGHT
TZOFFSETFROM:-0600
TZOFFSETTO:-0500
TZNAME:CDT
DTSTART:20260308T080000
END:DAYLIGHT
BEGIN:STANDARD
TZOFFSETFROM:-0500
TZOFFSETTO:-0600
TZNAME:CST
DTSTART:20261101T070000
END:STANDARD
BEGIN:DAYLIGHT
TZOFFSETFROM:-0600
TZOFFSETTO:-0500
TZNAME:CDT
DTSTART:20270314T080000
END:DAYLIGHT
BEGIN:STANDARD
TZOFFSETFROM:-0500
TZOFFSETTO:-0600
TZNAME:CST
DTSTART:20271107T070000
END:STANDARD
END:VTIMEZONE
BEGIN:VEVENT
DTSTART;TZID=America/Chicago:20260420T160000
DTEND;TZID=America/Chicago:20260420T183000
DTSTAMP:20260420T050111
CREATED:20251112T224013Z
LAST-MODIFIED:20251112T224013Z
UID:836-1776700800-1776709800@ccpbarroncounty.com
SUMMARY:Loads of Love
DESCRIPTION:
URL:https://ccpbarroncounty.com/event/loads-of-love-9/
LOCATION:WI
CATEGORIES:Loads of Love
END:VEVENT
BEGIN:VEVENT
DTSTART;TZID=America/Chicago:20260501T090000
DTEND;TZID=America/Chicago:20260501T113000
DTSTAMP:20260420T050111
CREATED:20251112T224047Z
LAST-MODIFIED:20251112T224047Z
UID:838-1777626000-1777635000@ccpbarroncounty.com
SUMMARY:Loads of Love
DESCRIPTION:
URL:https://ccpbarroncounty.com/event/loads-of-love-10/
LOCATION:Clothes Spin\, 329 N Main St\, Rice Lake\, WI\, 54868\, United States
CATEGORIES:Loads of Love
END:VEVENT
BEGIN:VEVENT
DTSTART;TZID=America/Chicago:20260518T160000
DTEND;TZID=America/Chicago:20260518T183000
DTSTAMP:20260420T050111
CREATED:20251112T224133Z
LAST-MODIFIED:20251112T224133Z
UID:840-1779120000-1779129000@ccpbarroncounty.com
SUMMARY:Loads of Love
DESCRIPTION:
URL:https://ccpbarroncounty.com/event/loads-of-love-11/
LOCATION:Clothes Spin\, 329 N Main St\, Rice Lake\, WI\, 54868\, United States
CATEGORIES:Loads of Love
END:VEVENT
BEGIN:VEVENT
DTSTART;TZID=America/Chicago:20260605T090000
DTEND;TZID=America/Chicago:20260605T113000
DTSTAMP:20260420T050111
CREATED:20251112T224229Z
LAST-MODIFIED:20251112T224229Z
UID:842-1780650000-1780659000@ccpbarroncounty.com
SUMMARY:Loads of Love
DESCRIPTION:
URL:https://ccpbarroncounty.com/event/loads-of-love-12/
LOCATION:Clothes Spin\, 329 N Main St\, Rice Lake\, WI\, 54868\, United States
CATEGORIES:Loads of Love
END:VEVENT
BEGIN:VEVENT
DTSTART;TZID=America/Chicago:20260615T160000
DTEND;TZID=America/Chicago:20260615T183000
DTSTAMP:20260420T050111
CREATED:20251112T224303Z
LAST-MODIFIED:20251112T224303Z
UID:844-1781539200-1781548200@ccpbarroncounty.com
SUMMARY:Loads of Love
DESCRIPTION:
URL:https://ccpbarroncounty.com/event/loads-of-love-13/
LOCATION:Clothes Spin\, 329 N Main St\, Rice Lake\, WI\, 54868\, United States
CATEGORIES:Loads of Love
END:VEVENT
BEGIN:VEVENT
DTSTART;TZID=America/Chicago:20260703T090000
DTEND;TZID=America/Chicago:20260703T113000
DTSTAMP:20260420T050111
CREATED:20251112T224348Z
LAST-MODIFIED:20251112T224348Z
UID:846-1783069200-1783078200@ccpbarroncounty.com
SUMMARY:Loads of Love
DESCRIPTION:
URL:https://ccpbarroncounty.com/event/loads-of-love-14/
LOCATION:Clothes Spin\, 329 N Main St\, Rice Lake\, WI\, 54868\, United States
CATEGORIES:Loads of Love
END:VEVENT
BEGIN:VEVENT
DTSTART;TZID=America/Chicago:20260720T160000
DTEND;TZID=America/Chicago:20260720T183000
DTSTAMP:20260420T050111
CREATED:20251112T224426Z
LAST-MODIFIED:20251112T224426Z
UID:848-1784563200-1784572200@ccpbarroncounty.com
SUMMARY:Loads of Love
DESCRIPTION:
URL:https://ccpbarroncounty.com/event/loads-of-love-15/
LOCATION:Clothes Spin\, 329 N Main St\, Rice Lake\, WI\, 54868\, United States
CATEGORIES:Loads of Love
END:VEVENT
BEGIN:VEVENT
DTSTART;TZID=America/Chicago:20260807T090000
DTEND;TZID=America/Chicago:20260807T113000
DTSTAMP:20260420T050111
CREATED:20251112T224516Z
LAST-MODIFIED:20251112T224516Z
UID:850-1786093200-1786102200@ccpbarroncounty.com
SUMMARY:Loads of Love
DESCRIPTION:
URL:https://ccpbarroncounty.com/event/loads-of-love-16/
LOCATION:Clothes Spin\, 329 N Main St\, Rice Lake\, WI\, 54868\, United States
CATEGORIES:Loads of Love
END:VEVENT
BEGIN:VEVENT
DTSTART;TZID=America/Chicago:20260817T160000
DTEND;TZID=America/Chicago:20260817T183000
DTSTAMP:20260420T050111
CREATED:20251112T224545Z
LAST-MODIFIED:20251112T224545Z
UID:852-1786982400-1786991400@ccpbarroncounty.com
SUMMARY:Loads of Love
DESCRIPTION:
URL:https://ccpbarroncounty.com/event/loads-of-love-17/
LOCATION:Clothes Spin\, 329 N Main St\, Rice Lake\, WI\, 54868\, United States
CATEGORIES:Loads of Love
END:VEVENT
BEGIN:VEVENT
DTSTART;TZID=America/Chicago:20260904T090000
DTEND;TZID=America/Chicago:20260904T113000
DTSTAMP:20260420T050111
CREATED:20251112T224642Z
LAST-MODIFIED:20251112T224642Z
UID:854-1788512400-1788521400@ccpbarroncounty.com
SUMMARY:Loads of Love
DESCRIPTION:
URL:https://ccpbarroncounty.com/event/loads-of-love-18/
LOCATION:Clothes Spin\, 329 N Main St\, Rice Lake\, WI\, 54868\, United States
CATEGORIES:Loads of Love
END:VEVENT
BEGIN:VEVENT
DTSTART;TZID=America/Chicago:20260921T160000
DTEND;TZID=America/Chicago:20260921T183000
DTSTAMP:20260420T050111
CREATED:20251112T224717Z
LAST-MODIFIED:20251112T224717Z
UID:856-1790006400-1790015400@ccpbarroncounty.com
SUMMARY:Loads of Love
DESCRIPTION:
URL:https://ccpbarroncounty.com/event/loads-of-love-19/
LOCATION:Clothes Spin\, 329 N Main St\, Rice Lake\, WI\, 54868\, United States
CATEGORIES:Loads of Love
END:VEVENT
BEGIN:VEVENT
DTSTART;TZID=America/Chicago:20261002T090000
DTEND;TZID=America/Chicago:20261002T113000
DTSTAMP:20260420T050111
CREATED:20251112T224754Z
LAST-MODIFIED:20251112T224754Z
UID:858-1790931600-1790940600@ccpbarroncounty.com
SUMMARY:Loads of Love
DESCRIPTION:
URL:https://ccpbarroncounty.com/event/loads-of-love-20/
LOCATION:Clothes Spin\, 329 N Main St\, Rice Lake\, WI\, 54868\, United States
CATEGORIES:Loads of Love
END:VEVENT
BEGIN:VEVENT
DTSTART;TZID=America/Chicago:20261019T160000
DTEND;TZID=America/Chicago:20261019T183000
DTSTAMP:20260420T050111
CREATED:20251112T224823Z
LAST-MODIFIED:20251112T224823Z
UID:860-1792425600-1792434600@ccpbarroncounty.com
SUMMARY:Loads of Love
DESCRIPTION:
URL:https://ccpbarroncounty.com/event/loads-of-love-21/
LOCATION:Clothes Spin\, 329 N Main St\, Rice Lake\, WI\, 54868\, United States
CATEGORIES:Loads of Love
END:VEVENT
BEGIN:VEVENT
DTSTART;TZID=America/Chicago:20261106T090000
DTEND;TZID=America/Chicago:20261106T113000
DTSTAMP:20260420T050111
CREATED:20251112T224852Z
LAST-MODIFIED:20251112T224852Z
UID:862-1793955600-1793964600@ccpbarroncounty.com
SUMMARY:Loads of Love
DESCRIPTION:
URL:https://ccpbarroncounty.com/event/loads-of-love-22/
LOCATION:Clothes Spin\, 329 N Main St\, Rice Lake\, WI\, 54868\, United States
CATEGORIES:Loads of Love
END:VEVENT
BEGIN:VEVENT
DTSTART;TZID=America/Chicago:20261116T160000
DTEND;TZID=America/Chicago:20261116T183000
DTSTAMP:20260420T050111
CREATED:20251112T224922Z
LAST-MODIFIED:20251112T224922Z
UID:864-1794844800-1794853800@ccpbarroncounty.com
SUMMARY:Loads of Love
DESCRIPTION:
URL:https://ccpbarroncounty.com/event/loads-of-love-23/
LOCATION:WI
CATEGORIES:Loads of Love
END:VEVENT
BEGIN:VEVENT
DTSTART;TZID=America/Chicago:20261204T090000
DTEND;TZID=America/Chicago:20261204T113000
DTSTAMP:20260420T050111
CREATED:20251112T224958Z
LAST-MODIFIED:20251112T224958Z
UID:866-1796374800-1796383800@ccpbarroncounty.com
SUMMARY:Loads of Love
DESCRIPTION:
URL:https://ccpbarroncounty.com/event/loads-of-love-24/
LOCATION:Clothes Spin\, 329 N Main St\, Rice Lake\, WI\, 54868\, United States
CATEGORIES:Loads of Love
END:VEVENT
BEGIN:VEVENT
DTSTART;TZID=America/Chicago:20261221T160000
DTEND;TZID=America/Chicago:20261221T183000
DTSTAMP:20260420T050111
CREATED:20251112T225040Z
LAST-MODIFIED:20251112T225040Z
UID:868-1797868800-1797877800@ccpbarroncounty.com
SUMMARY:Loads of Love
DESCRIPTION:
URL:https://ccpbarroncounty.com/event/loads-of-love-25/
LOCATION:Clothes Spin\, 329 N Main St\, Rice Lake\, WI\, 54868\, United States
CATEGORIES:Loads of Love
END:VEVENT
END:VCALENDAR