BEGIN:VCALENDAR
VERSION:2.0
PRODID:-//Community Connections to Prosperity - ECPv6.15.17.1//NONSGML v1.0//EN
CALSCALE:GREGORIAN
METHOD:PUBLISH
X-WR-CALNAME:Community Connections to Prosperity
X-ORIGINAL-URL:https://ccpbarroncounty.com
X-WR-CALDESC:Events for Community Connections to Prosperity
REFRESH-INTERVAL;VALUE=DURATION:PT1H
X-Robots-Tag:noindex
X-PUBLISHED-TTL:PT1H
BEGIN:VTIMEZONE
TZID:America/Chicago
BEGIN:DAYLIGHT
TZOFFSETFROM:-0600
TZOFFSETTO:-0500
TZNAME:CDT
DTSTART:20240310T080000
END:DAYLIGHT
BEGIN:STANDARD
TZOFFSETFROM:-0500
TZOFFSETTO:-0600
TZNAME:CST
DTSTART:20241103T070000
END:STANDARD
BEGIN:DAYLIGHT
TZOFFSETFROM:-0600
TZOFFSETTO:-0500
TZNAME:CDT
DTSTART:20250309T080000
END:DAYLIGHT
BEGIN:STANDARD
TZOFFSETFROM:-0500
TZOFFSETTO:-0600
TZNAME:CST
DTSTART:20251102T070000
END:STANDARD
BEGIN:DAYLIGHT
TZOFFSETFROM:-0600
TZOFFSETTO:-0500
TZNAME:CDT
DTSTART:20260308T080000
END:DAYLIGHT
BEGIN:STANDARD
TZOFFSETFROM:-0500
TZOFFSETTO:-0600
TZNAME:CST
DTSTART:20261101T070000
END:STANDARD
BEGIN:DAYLIGHT
TZOFFSETFROM:-0600
TZOFFSETTO:-0500
TZNAME:CDT
DTSTART:20270314T080000
END:DAYLIGHT
BEGIN:STANDARD
TZOFFSETFROM:-0500
TZOFFSETTO:-0600
TZNAME:CST
DTSTART:20271107T070000
END:STANDARD
END:VTIMEZONE
BEGIN:VEVENT
DTSTART;TZID=America/Chicago:20260403T090000
DTEND;TZID=America/Chicago:20260403T113000
DTSTAMP:20260420T064744
CREATED:20251112T223944Z
LAST-MODIFIED:20251112T223944Z
UID:834-1775206800-1775215800@ccpbarroncounty.com
SUMMARY:Loads of Love
DESCRIPTION:
URL:https://ccpbarroncounty.com/event/loads-of-love-8/
LOCATION:Clothes Spin\, 329 N Main St\, Rice Lake\, WI\, 54868\, United States
CATEGORIES:Loads of Love
END:VEVENT
BEGIN:VEVENT
DTSTART;TZID=America/Chicago:20260316T160000
DTEND;TZID=America/Chicago:20260316T183000
DTSTAMP:20260420T064744
CREATED:20251112T223853Z
LAST-MODIFIED:20251112T223853Z
UID:832-1773676800-1773685800@ccpbarroncounty.com
SUMMARY:Loads of Love
DESCRIPTION:
URL:https://ccpbarroncounty.com/event/loads-of-love-7/
LOCATION:Clothes Spin\, 329 N Main St\, Rice Lake\, WI\, 54868\, United States
CATEGORIES:Loads of Love
END:VEVENT
BEGIN:VEVENT
DTSTART;TZID=America/Chicago:20260306T090000
DTEND;TZID=America/Chicago:20260306T113000
DTSTAMP:20260420T064744
CREATED:20251112T223817Z
LAST-MODIFIED:20251112T223817Z
UID:830-1772787600-1772796600@ccpbarroncounty.com
SUMMARY:Loads of Love
DESCRIPTION:
URL:https://ccpbarroncounty.com/event/loads-of-love-6/
LOCATION:Clothes Spin\, 329 N Main St\, Rice Lake\, WI\, 54868\, United States
CATEGORIES:Loads of Love
END:VEVENT
BEGIN:VEVENT
DTSTART;TZID=America/Chicago:20260216T160000
DTEND;TZID=America/Chicago:20260216T183000
DTSTAMP:20260420T064744
CREATED:20251111T205237Z
LAST-MODIFIED:20251111T205237Z
UID:825-1771257600-1771266600@ccpbarroncounty.com
SUMMARY:Loads of Love
DESCRIPTION:
URL:https://ccpbarroncounty.com/event/loads-of-love-5/
LOCATION:Clothes Spin\, 329 N Main St\, Rice Lake\, WI\, 54868\, United States
CATEGORIES:Loads of Love
END:VEVENT
BEGIN:VEVENT
DTSTART;TZID=America/Chicago:20260206T090000
DTEND;TZID=America/Chicago:20260206T113000
DTSTAMP:20260420T064744
CREATED:20251111T205206Z
LAST-MODIFIED:20251111T205206Z
UID:823-1770368400-1770377400@ccpbarroncounty.com
SUMMARY:Loads of Love
DESCRIPTION:
URL:https://ccpbarroncounty.com/event/loads-of-love-4/
LOCATION:Clothes Spin\, 329 N Main St\, Rice Lake\, WI\, 54868\, United States
CATEGORIES:Loads of Love
END:VEVENT
BEGIN:VEVENT
DTSTART;TZID=America/Chicago:20260119T160000
DTEND;TZID=America/Chicago:20260119T183000
DTSTAMP:20260420T064744
CREATED:20251111T204358Z
LAST-MODIFIED:20251111T204358Z
UID:811-1768838400-1768847400@ccpbarroncounty.com
SUMMARY:Loads of Love
DESCRIPTION:
URL:https://ccpbarroncounty.com/event/loads-of-love-2/
LOCATION:Clothes Spin\, 329 N Main St\, Rice Lake\, WI\, 54868\, United States
CATEGORIES:Loads of Love
END:VEVENT
BEGIN:VEVENT
DTSTART;TZID=America/Chicago:20260102T090000
DTEND;TZID=America/Chicago:20260102T113000
DTSTAMP:20260420T064744
CREATED:20251111T205102Z
LAST-MODIFIED:20251111T205102Z
UID:821-1767344400-1767353400@ccpbarroncounty.com
SUMMARY:Loads of Love
DESCRIPTION:
URL:https://ccpbarroncounty.com/event/loads-of-love-3/
LOCATION:Clothes Spin\, 329 N Main St\, Rice Lake\, WI\, 54868\, United States
CATEGORIES:Loads of Love
END:VEVENT
BEGIN:VEVENT
DTSTART;TZID=America/Chicago:20251020T160000
DTEND;TZID=America/Chicago:20251020T183000
DTSTAMP:20260420T064744
CREATED:20251002T200033Z
LAST-MODIFIED:20251011T181552Z
UID:101-1760976000-1760985000@ccpbarroncounty.com
SUMMARY:Loads of Love
DESCRIPTION:
URL:https://ccpbarroncounty.com/event/loads-of-love/
LOCATION:Clothes Spin\, 329 N Main St\, Rice Lake\, WI\, 54868\, United States
CATEGORIES:Loads of Love
END:VEVENT
END:VCALENDAR